BEGIN:VCALENDAR
VERSION:2.0
PRODID:-//Deborah K Creations - ECPv6.15.20//NONSGML v1.0//EN
CALSCALE:GREGORIAN
METHOD:PUBLISH
X-WR-CALNAME:Deborah K Creations
X-ORIGINAL-URL:https://deborahkcreations.com
X-WR-CALDESC:Events for Deborah K Creations
REFRESH-INTERVAL;VALUE=DURATION:PT1H
X-Robots-Tag:noindex
X-PUBLISHED-TTL:PT1H
BEGIN:VTIMEZONE
TZID:America/Halifax
BEGIN:DAYLIGHT
TZOFFSETFROM:-0400
TZOFFSETTO:-0300
TZNAME:ADT
DTSTART:20240310T060000
END:DAYLIGHT
BEGIN:STANDARD
TZOFFSETFROM:-0300
TZOFFSETTO:-0400
TZNAME:AST
DTSTART:20241103T050000
END:STANDARD
BEGIN:DAYLIGHT
TZOFFSETFROM:-0400
TZOFFSETTO:-0300
TZNAME:ADT
DTSTART:20250309T060000
END:DAYLIGHT
BEGIN:STANDARD
TZOFFSETFROM:-0300
TZOFFSETTO:-0400
TZNAME:AST
DTSTART:20251102T050000
END:STANDARD
BEGIN:DAYLIGHT
TZOFFSETFROM:-0400
TZOFFSETTO:-0300
TZNAME:ADT
DTSTART:20260308T060000
END:DAYLIGHT
BEGIN:STANDARD
TZOFFSETFROM:-0300
TZOFFSETTO:-0400
TZNAME:AST
DTSTART:20261101T050000
END:STANDARD
BEGIN:DAYLIGHT
TZOFFSETFROM:-0400
TZOFFSETTO:-0300
TZNAME:ADT
DTSTART:20270314T060000
END:DAYLIGHT
BEGIN:STANDARD
TZOFFSETFROM:-0300
TZOFFSETTO:-0400
TZNAME:AST
DTSTART:20271107T050000
END:STANDARD
END:VTIMEZONE
BEGIN:VEVENT
DTSTART;TZID=America/Halifax:20260117T180000
DTEND;TZID=America/Halifax:20260314T170000
DTSTAMP:20260420T161123
CREATED:20251227T205637Z
LAST-MODIFIED:20251229T110323Z
UID:10000012-1768672800-1773507600@deborahkcreations.com
SUMMARY:Rooms of Grief - Kennedy Heights Art Center\, Cincinnati\, Ohio
DESCRIPTION:Rooms of Grief is an exhibition exploring the emotional spaces we move through when loss reshapes our world. \n\nKennedy Heights Art Center presents Rooms of Grief\, an exhibition that invites artists to explore the spaces we inhabit when loss rearranges our world. Each “room” becomes a metaphor\, where silence\, memory\, and renewal coexist. This exhibition seeks work that interprets grief not only as sorrow\, but as transformation\, revealing the textures\, colors\, and shapes of what remains and what begins again. \nMy piece Grief – Coming out of the Dark has been chosen as part of this juried exhibition. Healing from grief is like walking out of a dark\, ominous forest into the light of love and hope. I symbolically used the butterfly because the butterfly symbolizes transformation\, hope\, resilience\, and spiritual reconnection. The woman is reaching out for hope\, following the butterflies into the light.
URL:https://deborahkcreations.com/event/rooms-of-grief-kennedy-heights-art-center-cincinnati-ohio/
LOCATION:Kennedy Heights Art Center\, 6546 Montgomery Rd.\, Cincinnati\, OH\, 45213\, United States
ATTACH;FMTTYPE=image/jpeg:https://deborahkcreations.com/wp-content/uploads/2025/12/Kovacs-Sturdevant-D._Grief-Coming-Out-of-the-Dark-1-scaled.jpg
END:VEVENT
BEGIN:VEVENT
DTSTART;TZID=America/Halifax:20251101T180000
DTEND;TZID=America/Halifax:20251223T170000
DTSTAMP:20260420T161123
CREATED:20251014T163551Z
LAST-MODIFIED:20251025T112536Z
UID:10000007-1762020000-1766509200@deborahkcreations.com
SUMMARY:Unleashed Exhibition - Kennedy Heights Arts Center (KHAC)\, Cincinnati\, Ohio
DESCRIPTION:This exhibition showcases the works of KHAC’s Collective Artists. \nThe jury chose three of Deb’s pieces to be featured in this exhibition – Angel in Flight\, Sacred Hearts\, and Metamorphosis. \nThere is an annual KHAC Holiday Art Market happening at the same venue simultaneously with this exhibition. Hundreds of unique artisan-made items will be available for purchase. \nKHAC is located at: \n6546 Montgomery Rd. \nCincinnati\, Ohio 45213 \n 
URL:https://deborahkcreations.com/event/unleashed-exhibit-kennedy-heights-arts-center-khac-cincinnati-ohio/
LOCATION:Kennedy Heights Art Center\, 6546 Montgomery Rd.\, Cincinnati\, OH\, 45213\, United States
ATTACH;FMTTYPE=image/jpeg:https://deborahkcreations.com/wp-content/uploads/2025/09/Angel-in-Flight-redo-scaled.jpg
END:VEVENT
END:VCALENDAR