BEGIN:VCALENDAR
VERSION:2.0
PRODID:-//Deborah K Creations - ECPv6.15.20//NONSGML v1.0//EN
CALSCALE:GREGORIAN
METHOD:PUBLISH
X-WR-CALNAME:Deborah K Creations
X-ORIGINAL-URL:https://deborahkcreations.com
X-WR-CALDESC:Events for Deborah K Creations
REFRESH-INTERVAL;VALUE=DURATION:PT1H
X-Robots-Tag:noindex
X-PUBLISHED-TTL:PT1H
BEGIN:VTIMEZONE
TZID:America/Halifax
BEGIN:DAYLIGHT
TZOFFSETFROM:-0400
TZOFFSETTO:-0300
TZNAME:ADT
DTSTART:20240310T060000
END:DAYLIGHT
BEGIN:STANDARD
TZOFFSETFROM:-0300
TZOFFSETTO:-0400
TZNAME:AST
DTSTART:20241103T050000
END:STANDARD
BEGIN:DAYLIGHT
TZOFFSETFROM:-0400
TZOFFSETTO:-0300
TZNAME:ADT
DTSTART:20250309T060000
END:DAYLIGHT
BEGIN:STANDARD
TZOFFSETFROM:-0300
TZOFFSETTO:-0400
TZNAME:AST
DTSTART:20251102T050000
END:STANDARD
BEGIN:DAYLIGHT
TZOFFSETFROM:-0400
TZOFFSETTO:-0300
TZNAME:ADT
DTSTART:20260308T060000
END:DAYLIGHT
BEGIN:STANDARD
TZOFFSETFROM:-0300
TZOFFSETTO:-0400
TZNAME:AST
DTSTART:20261101T050000
END:STANDARD
BEGIN:DAYLIGHT
TZOFFSETFROM:-0400
TZOFFSETTO:-0300
TZNAME:ADT
DTSTART:20270314T060000
END:DAYLIGHT
BEGIN:STANDARD
TZOFFSETFROM:-0300
TZOFFSETTO:-0400
TZNAME:AST
DTSTART:20271107T050000
END:STANDARD
END:VTIMEZONE
BEGIN:VEVENT
DTSTART;VALUE=DATE:20250620
DTEND;VALUE=DATE:20250714
DTSTAMP:20260420T225948
CREATED:20250516T101121Z
LAST-MODIFIED:20250530T202448Z
UID:10000003-1750377600-1752451199@deborahkcreations.com
SUMMARY:SOS Art 2025
DESCRIPTION:Art Academy of Cincinnati \n1212 Jackson St\, Cincinnati\, Ohio 45202\nJune 20 to July 13\, 2025\nWebsite: https://sosartcincinnati.com/
URL:https://deborahkcreations.com/event/sos-art-2025/
LOCATION:OH
ATTACH;FMTTYPE=image/jpeg:https://deborahkcreations.com/wp-content/uploads/2025/05/46.jpg
END:VEVENT
BEGIN:VEVENT
DTSTART;TZID=America/Halifax:20250627T170000
DTEND;TZID=America/Halifax:20250724T170000
DTSTAMP:20260420T225948
CREATED:20250607T115127Z
LAST-MODIFIED:20250607T181948Z
UID:10000006-1751043600-1753376400@deborahkcreations.com
SUMMARY:Ethos Art Collective Grand Opening Exhibition
DESCRIPTION:Ethos Art Collective \n7507 Hamilton Ave.\, Cincinnati\, Ohio 45231
URL:https://deborahkcreations.com/event/ethos-art-collective-grand-opening-exhibition/
LOCATION:Ethos Art Collective\, 7507 Hamilton Ave.\, Mt. Healthy\, OH\, 45231\, United States
ATTACH;FMTTYPE=image/jpeg:https://deborahkcreations.com/wp-content/uploads/2025/05/30.jpg
END:VEVENT
BEGIN:VEVENT
DTSTART;TZID=America/Halifax:20251101T180000
DTEND;TZID=America/Halifax:20251223T170000
DTSTAMP:20260420T225948
CREATED:20251014T163551Z
LAST-MODIFIED:20251025T112536Z
UID:10000007-1762020000-1766509200@deborahkcreations.com
SUMMARY:Unleashed Exhibition - Kennedy Heights Arts Center (KHAC)\, Cincinnati\, Ohio
DESCRIPTION:This exhibition showcases the works of KHAC’s Collective Artists. \nThe jury chose three of Deb’s pieces to be featured in this exhibition – Angel in Flight\, Sacred Hearts\, and Metamorphosis. \nThere is an annual KHAC Holiday Art Market happening at the same venue simultaneously with this exhibition. Hundreds of unique artisan-made items will be available for purchase. \nKHAC is located at: \n6546 Montgomery Rd. \nCincinnati\, Ohio 45213 \n 
URL:https://deborahkcreations.com/event/unleashed-exhibit-kennedy-heights-arts-center-khac-cincinnati-ohio/
LOCATION:Kennedy Heights Art Center\, 6546 Montgomery Rd.\, Cincinnati\, OH\, 45213\, United States
ATTACH;FMTTYPE=image/jpeg:https://deborahkcreations.com/wp-content/uploads/2025/09/Angel-in-Flight-redo-scaled.jpg
END:VEVENT
BEGIN:VEVENT
DTSTART;TZID=America/Halifax:20251114T180000
DTEND;TZID=America/Halifax:20251212T170000
DTSTAMP:20260420T225948
CREATED:20251014T164751Z
LAST-MODIFIED:20251025T111346Z
UID:10000008-1763143200-1765558800@deborahkcreations.com
SUMMARY:Golden Ticket Exhibition - Clifton Cultural Arts Center (CCAC)\, Cincinnati\, Ohio
DESCRIPTION:The Golden Ticket Exhibition is one of Cincinnati’s premier annual art exhibitions showcasing the works of local Cincinnati artists. \nThe jury chose Deb’s The Fortune Teller as one of the pieces featured this year. \nCCAC is located at: \n3412 Clifton Ave \nCincinnati\, OH 45220 \n  \n 
URL:https://deborahkcreations.com/event/the-golden-ticket-exhibition-clifton-cultural-arts-center-ccac-cincinnati-ohio/
LOCATION:Clifton Cultural Arts Center\, 3412 Clifton Ave\,\, Cincinnati\, OH\, 45220\, United States
ATTACH;FMTTYPE=image/jpeg:https://deborahkcreations.com/wp-content/uploads/2025/09/DK-S_The-Fortune-Teller-1-scaled.jpg
END:VEVENT
BEGIN:VEVENT
DTSTART;TZID=America/Halifax:20251121T170000
DTEND;TZID=America/Halifax:20251222T170000
DTSTAMP:20260420T225948
CREATED:20251025T112404Z
LAST-MODIFIED:20251025T113435Z
UID:10000009-1763744400-1766422800@deborahkcreations.com
SUMMARY:Ethos Art Collective Holiday Art Show\, Mt. Healthy\, Ohio
DESCRIPTION:Ethos Art Collective is a new gallery in the greater Cincinnati area that opened in 2025. \nThis exhibition and sale showcases the talent of local Cincinnati artists across all media. Five of Deb’s polymer clay & mixed media pieces were chosen to appear as part of this exhibition – Rejoice!\, Saint Lucy\, Protection Nicho\, Angel Shrine\, and Our Lady Shrine. \nEthos Art Collective is located at: \n7507 Hamilton Ave. \nMount Healthy\, OH 45231
URL:https://deborahkcreations.com/event/ethos-art-collective-holiday-art-show-mt-healthy-ohio/
LOCATION:Ethos Art Collective\, 7507 Hamilton Ave.\, Mt. Healthy\, OH\, 45231\, United States
ATTACH;FMTTYPE=image/jpeg:https://deborahkcreations.com/wp-content/uploads/2025/10/Rejoice_Kovacs-Sturdevant-scaled.jpg
END:VEVENT
BEGIN:VEVENT
DTSTART;TZID=America/Halifax:20251128T193000
DTEND;TZID=America/Halifax:20251221T213000
DTSTAMP:20260420T225948
CREATED:20251117T205019Z
LAST-MODIFIED:20251119T151937Z
UID:10000010-1764358200-1766352600@deborahkcreations.com
SUMMARY:Christmas Lobby Exhibition - Know Theatre\, Cincinnati\, Ohio
DESCRIPTION:Two of my pieces were chosen for the lobby display during the run of the play “Die Hard is a Christmas Movie”. These two pieces are also for sale. \n\n“Beneath a Winter’s Moon”\n“Christmas Angel”\n\nThe lobby art can be viewed during business hours. \n“Die Hard is a Christmas Movie” – PLAYING AT KNOW THEATRE\n1120 Jackson Street\, Cincinnati\, OH 45202 \n*Welcome Thursdays: $15 advance reservations & pay-what-you-wish walk-up tickets (available one-hour prior to performance) \n+Arts & Service Industry Night: $20 tickets \nDoors & Underground Bar open one hour prior to start time\nEvening performances begin at 7:30pm\nSunday matinee performances begin at 2:00pm
URL:https://deborahkcreations.com/event/christmas-lobby-exhibition-know-theatre-cincinnati-ohio/
LOCATION:Know Theatre\, Cincinnati\, 1102 Jackson Street\, Cincinnati\, OH\, 45202\, United States
ATTACH;FMTTYPE=image/jpeg:https://deborahkcreations.com/wp-content/uploads/2025/11/Beneath-a-Winters-Moon_Kovacs-Sturdevant_image-1-scaled.jpg
END:VEVENT
BEGIN:VEVENT
DTSTART;TZID=America/Halifax:20260108T170000
DTEND;TZID=America/Halifax:20260208T200000
DTSTAMP:20260420T225948
CREATED:20251119T181012Z
LAST-MODIFIED:20251119T190051Z
UID:10000011-1767891600-1770580800@deborahkcreations.com
SUMMARY:Artlink Storied: Narrative Art Exhibition - Artlink\, Ft. Wayne\, IN
DESCRIPTION:One of my pieces was chosen for the Storied: Narrative Art Exhibition at Artlink in Ft. Wayne\, Indiana. The name of the piece is “The Wailing Soul – Anxiety Monsters” and is polymer clay and collage artwork. \nNarrative artwork is that which tells a story. Whether it be a personal experience\, a historical happening\, or an imagined tale… narrative artwork brings us together in a shared experience of curiosity and interpretation. It allows artists to communicate directly to the viewer\, pulling them into a moment in time or a sequence of events. \nArtlink Contemporary Gallery is a non-profit creative art space and gallery supporting artists through exhibition\, education and community engagement in Fort Wayne\, IN since 1978. \nThe gallery is open Thursdays through Sundays. See gallery hours on their website.
URL:https://deborahkcreations.com/event/art-link-midwest-regional-exhibition-art-link-ft-wayne-in/
LOCATION:Art Link\, 300 E. Main Street\, Fort Wayne\, IN\, 46802\, United States
ATTACH;FMTTYPE=image/png:https://deborahkcreations.com/wp-content/uploads/2025/11/The-Wailing-Soul-Anxiety-Monsters-scaled.png
END:VEVENT
BEGIN:VEVENT
DTSTART;TZID=America/Halifax:20260117T180000
DTEND;TZID=America/Halifax:20260314T170000
DTSTAMP:20260420T225948
CREATED:20251227T205637Z
LAST-MODIFIED:20251229T110323Z
UID:10000012-1768672800-1773507600@deborahkcreations.com
SUMMARY:Rooms of Grief - Kennedy Heights Art Center\, Cincinnati\, Ohio
DESCRIPTION:Rooms of Grief is an exhibition exploring the emotional spaces we move through when loss reshapes our world. \n\nKennedy Heights Art Center presents Rooms of Grief\, an exhibition that invites artists to explore the spaces we inhabit when loss rearranges our world. Each “room” becomes a metaphor\, where silence\, memory\, and renewal coexist. This exhibition seeks work that interprets grief not only as sorrow\, but as transformation\, revealing the textures\, colors\, and shapes of what remains and what begins again. \nMy piece Grief – Coming out of the Dark has been chosen as part of this juried exhibition. Healing from grief is like walking out of a dark\, ominous forest into the light of love and hope. I symbolically used the butterfly because the butterfly symbolizes transformation\, hope\, resilience\, and spiritual reconnection. The woman is reaching out for hope\, following the butterflies into the light.
URL:https://deborahkcreations.com/event/rooms-of-grief-kennedy-heights-art-center-cincinnati-ohio/
LOCATION:Kennedy Heights Art Center\, 6546 Montgomery Rd.\, Cincinnati\, OH\, 45213\, United States
ATTACH;FMTTYPE=image/jpeg:https://deborahkcreations.com/wp-content/uploads/2025/12/Kovacs-Sturdevant-D._Grief-Coming-Out-of-the-Dark-1-scaled.jpg
END:VEVENT
BEGIN:VEVENT
DTSTART;TZID=America/Halifax:20260130T180000
DTEND;TZID=America/Halifax:20260409T170000
DTSTAMP:20260420T225948
CREATED:20260108T115801Z
LAST-MODIFIED:20260324T173320Z
UID:10000013-1769796000-1775754000@deborahkcreations.com
SUMMARY:The Angelico Project Annual Exhibition - St. Francis Xavier Church\, Cincinnati\, Ohio
DESCRIPTION:One of my pieces has been selected by the jury for The Angelico Project Greater Cincinnati Annual Catholic Art Exhibition.\n\n\n\nMy polymer clay and mixed media piece is titled “Faith”.\n\n\n\nThe goal of The Angelico Project is to showcase excellent regional art that inspires the viewer to a deeper faith in God through Truth\, Goodness and Beauty.\n\n\n\nThe exhibit opening reception is Saturday\, January 30\, 2026\, from 7-9pm at St. Francis Xavier Church on Sycamore Street in Cincinnati. It’s going to be a party with viewing of inspiring art and the opportunity to meet the artists.\n\n\n\nThe exhibition runs January 30 – April 9\, 2026.
URL:https://deborahkcreations.com/event/the-angelico-project-cincinnati-annual-exhibition/
LOCATION:St. Francis Xavier Catholic Church\, 611 Sycamore Street\, Cincinnati\, OH\, 45202\, United States
ATTACH;FMTTYPE=image/jpeg:https://deborahkcreations.com/wp-content/uploads/2025/09/Faith1_Kovacs-Sturdevant-scaled-e1757337946585.jpg
END:VEVENT
BEGIN:VEVENT
DTSTART;TZID=America/Halifax:20260206T183000
DTEND;TZID=America/Halifax:20260411T170000
DTSTAMP:20260420T225948
CREATED:20260120T111320Z
LAST-MODIFIED:20260120T111320Z
UID:10000014-1770402600-1775926800@deborahkcreations.com
SUMMARY:Crow Show 2026 - Arts Illiana Gallery\, Terre Haute\, Indiana
DESCRIPTION:Mysterious\, intelligent\, and steeped in symbolism\, the crow has captured human imagination for centuries. The Crow Show invites artists to explore this remarkable bird as muse — from myth and mystery to wit and wonder. The exhibition showcases diverse interpretations of the crow’s presence in nature\, culture\, and art\, celebrating its beauty\, complexity\, and enduring symbolism. \nTwo of my pieces were selected for this show – “The King” and Urban Crow”. \n● Opening Reception | February 6th\, 2026\, 6:30 PM – 8:30 PM \n● Exhibition viewing dates are February 6\, 2026 – April 11\, 2026
URL:https://deborahkcreations.com/event/crow-show-2026-arts-illiana-gallery-terre-haute-indiana/
LOCATION:Arts Illiana Gallery\, 23 N. 6th Street\, Terre Haute\, IN\, 47807\, United States
ATTACH;FMTTYPE=image/jpeg:https://deborahkcreations.com/wp-content/uploads/2026/01/The-King.jpg
END:VEVENT
BEGIN:VEVENT
DTSTART;TZID=America/Halifax:20260220T170000
DTEND;TZID=America/Halifax:20260327T170000
DTSTAMP:20260420T225948
CREATED:20260209T215245Z
LAST-MODIFIED:20260315T010346Z
UID:10000015-1771606800-1774630800@deborahkcreations.com
SUMMARY:Life in Black & White - Ethos Art Collective\, Cincinnati\, Ohio
DESCRIPTION:Life in Black & White is a collaborative exhibition featuring Cincinnati community artists. \nI have two companion pieces in this exhibition – “Black Lace Collar” and “White Lace Collar”.
URL:https://deborahkcreations.com/event/life-in-black-white-ethos-art-collective-cincinnati-ohio/
LOCATION:Ethos Art Collective\, 7507 Hamilton Ave.\, Mt. Healthy\, OH\, 45231\, United States
ATTACH;FMTTYPE=image/jpeg:https://deborahkcreations.com/wp-content/uploads/2026/02/White-Lace-Collar-scaled.jpg
END:VEVENT
BEGIN:VEVENT
DTSTART;TZID=America/Halifax:20260322T140000
DTEND;TZID=America/Halifax:20260621T170000
DTSTAMP:20260420T225948
CREATED:20260315T005517Z
LAST-MODIFIED:20260324T173703Z
UID:10000016-1774188000-1782061200@deborahkcreations.com
SUMMARY:Tri-State Arts Association Juried Exhibition 2026 - Huntington Museum of Art\, Huntington\, West Virginia
DESCRIPTION:Tri-State Arts Association (TSAA) Biennial juried exhibition of artists from West Virginia\, Ohio\, and Kentucky. \nExhibition opening event on Sunday\, March 22 from 2-4pm EDT. \nExhibition is in the Switzer Gallery from March 22 – June 21\, 2026. \nI have one piece in this exhibition – “The Fortune Teller”. This piece is part of a series of fantasy art depicting Renaissance women. \n“The Fortune Teller” was awarded the TSAA Kathy Welch Memorial award.
URL:https://deborahkcreations.com/event/tri-state-arts-association-juried-exhibition-2026-at-the-huntington-museum-of-art-huntington-west-virginia/
LOCATION:Hunting Museum of Art\, 2033 McCoy Road\, Huntington\, WV\, 25701\, United States
ATTACH;FMTTYPE=image/jpeg:https://deborahkcreations.com/wp-content/uploads/2025/09/DK-S_The-Fortune-Teller-1-scaled.jpg
END:VEVENT
BEGIN:VEVENT
DTSTART;VALUE=DATE:20260425
DTEND;VALUE=DATE:20261026
DTSTAMP:20260420T225948
CREATED:20260402T193449Z
LAST-MODIFIED:20260402T193449Z
UID:10000017-1777075200-1792972799@deborahkcreations.com
SUMMARY:Ai - Embraced\, A Virtual Exhibition\, Red Bluff Art Gallery\, Red Bluff\, California
DESCRIPTION:An online creative\, international\, 3D-immersive exhibition featuring work that involves the use of AI technology. No restraints. Digital work\, video\, and AI-assisted artwork. \nEvent runs online for six months. \nI have six pieces in this exhibition. \nEvent website:   https://www.redbluffartgallery.com/Ai-Embraced.htm
URL:https://deborahkcreations.com/event/ai-embraced-a-virtual-exhibition-red-bluff-art-gallery-red-bluff-california/
LOCATION:Red Bluff Art Gallery\, 601 Walnut Street\, Red Bluff\, CA\, 96080\, United States
ATTACH;FMTTYPE=image/jpeg:https://deborahkcreations.com/wp-content/uploads/2026/03/The-Astronomer-scaled.jpg
END:VEVENT
BEGIN:VEVENT
DTSTART;TZID=America/Halifax:20260502T173000
DTEND;TZID=America/Halifax:20260626T173000
DTSTAMP:20260420T225948
CREATED:20260407T100345Z
LAST-MODIFIED:20260407T100345Z
UID:10000018-1777743000-1782495000@deborahkcreations.com
SUMMARY:Fitton Center for Creative Arts Biennial Member Art Exhibition\, Hamilton\, Ohio
DESCRIPTION:The Fitton Center for Creative Arts is hosting the 10th Biennial Member Show featuring a diverse network of member artists. \nThe show will showcase a mix of contemporary and historic works\, including kids’ art\, adult contemporary works\, and family heirlooms. The exhibition will fill the Fitton Center’s four professional gallery rooms on two floors. \nI have two pieces in this exhibition\, “The Wailing Soul – Anxiety Monsters” and “The Librarian”.
URL:https://deborahkcreations.com/event/fitton-center-for-creative-arts-biennial-member-art-exhibition-hamilton-ohio/
LOCATION:Fitton Center for Creative Arts\, 101 S. Monument Ave.\, Hamilton\, OH\, 45011\, United States
ATTACH;FMTTYPE=image/png:https://deborahkcreations.com/wp-content/uploads/2025/11/The-Wailing-Soul-Anxiety-Monsters-scaled.png
END:VEVENT
END:VCALENDAR