BEGIN:VCALENDAR
VERSION:2.0
PRODID:-//Deborah K Creations - ECPv6.15.20//NONSGML v1.0//EN
CALSCALE:GREGORIAN
METHOD:PUBLISH
X-WR-CALNAME:Deborah K Creations
X-ORIGINAL-URL:https://deborahkcreations.com
X-WR-CALDESC:Events for Deborah K Creations
REFRESH-INTERVAL;VALUE=DURATION:PT1H
X-Robots-Tag:noindex
X-PUBLISHED-TTL:PT1H
BEGIN:VTIMEZONE
TZID:America/Halifax
BEGIN:DAYLIGHT
TZOFFSETFROM:-0400
TZOFFSETTO:-0300
TZNAME:ADT
DTSTART:20240310T060000
END:DAYLIGHT
BEGIN:STANDARD
TZOFFSETFROM:-0300
TZOFFSETTO:-0400
TZNAME:AST
DTSTART:20241103T050000
END:STANDARD
BEGIN:DAYLIGHT
TZOFFSETFROM:-0400
TZOFFSETTO:-0300
TZNAME:ADT
DTSTART:20250309T060000
END:DAYLIGHT
BEGIN:STANDARD
TZOFFSETFROM:-0300
TZOFFSETTO:-0400
TZNAME:AST
DTSTART:20251102T050000
END:STANDARD
BEGIN:DAYLIGHT
TZOFFSETFROM:-0400
TZOFFSETTO:-0300
TZNAME:ADT
DTSTART:20260308T060000
END:DAYLIGHT
BEGIN:STANDARD
TZOFFSETFROM:-0300
TZOFFSETTO:-0400
TZNAME:AST
DTSTART:20261101T050000
END:STANDARD
END:VTIMEZONE
BEGIN:VEVENT
DTSTART;VALUE=DATE:20250622
DTEND;VALUE=DATE:20250623
DTSTAMP:20260421T022908
CREATED:20250516T101159Z
LAST-MODIFIED:20250604T204215Z
UID:10000004-1750550400-1750636799@deborahkcreations.com
SUMMARY:International Polymer Clay Association Global Online Exhibition
DESCRIPTION:Welcome to the 2025 Global Exhibition
URL:https://deborahkcreations.com/event/international-polymer-clay-association-global-exhibition/
LOCATION:OH
ATTACH;FMTTYPE=image/jpeg:https://deborahkcreations.com/wp-content/uploads/2025/05/Navigating-Eternity.jpg
END:VEVENT
BEGIN:VEVENT
DTSTART;VALUE=DATE:20250531
DTEND;VALUE=DATE:20250601
DTSTAMP:20260421T022908
CREATED:20250516T100951Z
LAST-MODIFIED:20250530T202546Z
UID:10000002-1748649600-1748735999@deborahkcreations.com
SUMMARY:Just Earth Exhibition
DESCRIPTION:Art Academy of Cincinnati \n1212 Jackson St\, Cincinnati\, Ohio 45202\nOpens May 31\, 2025\nWebsite: https://justearthcincy.org/events-2/
URL:https://deborahkcreations.com/event/just-earth-exhibition/
LOCATION:OH
ATTACH;FMTTYPE=image/jpeg:https://deborahkcreations.com/wp-content/uploads/2025/05/Mother-Earth-Weeps.jpg
END:VEVENT
END:VCALENDAR