BEGIN:VCALENDAR
VERSION:2.0
PRODID:-//Deborah K Creations - ECPv6.15.20//NONSGML v1.0//EN
CALSCALE:GREGORIAN
METHOD:PUBLISH
X-ORIGINAL-URL:https://deborahkcreations.com
X-WR-CALDESC:Events for Deborah K Creations
REFRESH-INTERVAL;VALUE=DURATION:PT1H
X-Robots-Tag:noindex
X-PUBLISHED-TTL:PT1H
BEGIN:VTIMEZONE
TZID:America/Halifax
BEGIN:DAYLIGHT
TZOFFSETFROM:-0400
TZOFFSETTO:-0300
TZNAME:ADT
DTSTART:20250309T060000
END:DAYLIGHT
BEGIN:STANDARD
TZOFFSETFROM:-0300
TZOFFSETTO:-0400
TZNAME:AST
DTSTART:20251102T050000
END:STANDARD
BEGIN:DAYLIGHT
TZOFFSETFROM:-0400
TZOFFSETTO:-0300
TZNAME:ADT
DTSTART:20260308T060000
END:DAYLIGHT
BEGIN:STANDARD
TZOFFSETFROM:-0300
TZOFFSETTO:-0400
TZNAME:AST
DTSTART:20261101T050000
END:STANDARD
BEGIN:DAYLIGHT
TZOFFSETFROM:-0400
TZOFFSETTO:-0300
TZNAME:ADT
DTSTART:20270314T060000
END:DAYLIGHT
BEGIN:STANDARD
TZOFFSETFROM:-0300
TZOFFSETTO:-0400
TZNAME:AST
DTSTART:20271107T050000
END:STANDARD
END:VTIMEZONE
BEGIN:VEVENT
DTSTART;VALUE=DATE:20260425
DTEND;VALUE=DATE:20261026
DTSTAMP:20260420T160620
CREATED:20260402T193449Z
LAST-MODIFIED:20260402T193449Z
UID:10000017-1777075200-1792972799@deborahkcreations.com
SUMMARY:Ai - Embraced\, A Virtual Exhibition\, Red Bluff Art Gallery\, Red Bluff\, California
DESCRIPTION:An online creative\, international\, 3D-immersive exhibition featuring work that involves the use of AI technology. No restraints. Digital work\, video\, and AI-assisted artwork. \nEvent runs online for six months. \nI have six pieces in this exhibition. \nEvent website:   https://www.redbluffartgallery.com/Ai-Embraced.htm
URL:https://deborahkcreations.com/event/ai-embraced-a-virtual-exhibition-red-bluff-art-gallery-red-bluff-california/
LOCATION:Red Bluff Art Gallery\, 601 Walnut Street\, Red Bluff\, CA\, 96080\, United States
ATTACH;FMTTYPE=image/jpeg:https://deborahkcreations.com/wp-content/uploads/2026/03/The-Astronomer-scaled.jpg
END:VEVENT
END:VCALENDAR